{
 "currentVersion": 10.61,
 "serviceDescription": "2014 aerial photo, of half-feet resolution, covering the entire Laurens County.",
 "mapName": "Layers",
 "description": "",
 "copyrightText": "",
 "supportsDynamicLayers": true,
 "layers": [],
 "tables": [],
 "spatialReference": {
  "wkid": 103146,
  "latestWkid": 6570,
  "vcsWkid": 5703,
  "latestVcsWkid": 5703
 },
 "singleFusedMapCache": true,
 "tileInfo": {
  "rows": 256,
  "cols": 256,
  "dpi": 96,
  "format": "JPEG",
  "compressionQuality": 75,
  "origin": {
   "x": -122907600,
   "y": 157014500
  },
  "spatialReference": {
   "wkid": 103146,
   "latestWkid": 6570,
   "vcsWkid": 5703,
   "latestVcsWkid": 5703
  },
  "lods": [
   {
    "level": 0,
    "resolution": 347.2229166680556,
    "scale": 400000
   },
   {
    "level": 1,
    "resolution": 86.8057291670139,
    "scale": 100000
   },
   {
    "level": 2,
    "resolution": 55.55566666688889,
    "scale": 64000
   },
   {
    "level": 3,
    "resolution": 43.40286458350695,
    "scale": 50000
   },
   {
    "level": 4,
    "resolution": 20.833375000083333,
    "scale": 24000
   },
   {
    "level": 5,
    "resolution": 8.680572916701388,
    "scale": 10000
   },
   {
    "level": 6,
    "resolution": 6.944458333361111,
    "scale": 8000
   },
   {
    "level": 7,
    "resolution": 4.166675000016666,
    "scale": 4800
   },
   {
    "level": 8,
    "resolution": 2.083337500008333,
    "scale": 2400
   },
   {
    "level": 9,
    "resolution": 1.0416687500041666,
    "scale": 1200
   },
   {
    "level": 10,
    "resolution": 0.5208343750020833,
    "scale": 600
   }
  ]
 },
 "initialExtent": {
  "xmin": 1536576.7371530298,
  "ymin": 981457.1852048102,
  "xmax": 1862052.614881092,
  "ymax": 1100002.4534120709,
  "spatialReference": {
   "wkid": 103146,
   "latestWkid": 6570,
   "vcsWkid": 5703,
   "latestVcsWkid": 5703
  }
 },
 "fullExtent": {
  "xmin": 1582744.6486220509,
  "ymin": 854115.2716535479,
  "xmax": 1815884.7034120709,
  "ymax": 1100002.4534120709,
  "spatialReference": {
   "wkid": 103146,
   "latestWkid": 6570,
   "vcsWkid": 5703,
   "latestVcsWkid": 5703
  }
 },
 "minScale": 400000,
 "maxScale": 600,
 "units": "esriFeet",
 "supportedImageFormatTypes": "PNG32,PNG24,PNG,JPG,DIB,TIFF,EMF,PS,PDF,GIF,SVG,SVGZ,BMP",
 "documentInfo": {
  "Title": "Aerial2014",
  "Author": "Jack Chen",
  "Comments": "2014 aerial photo, of half-feet resolution, covering the entire Laurens County.\n\nE:\\Project\\data\\raster\\2014\\MrSID\\Mosaic\\Laurens2014_40to1.sid",
  "Subject": "2014 aerial photo imagery dataset.",
  "Category": "",
  "AntialiasingMode": "None",
  "TextAntialiasingMode": "Force",
  "Keywords": "aerial,photo,laurens"
 },
 "capabilities": "Map,Query,Data",
 "supportedQueryFormats": "JSON, AMF, geoJSON",
 "exportTilesAllowed": false,
 "supportsDatumTransformation": true,
 "maxRecordCount": 1000,
 "maxImageHeight": 4096,
 "maxImageWidth": 4096,
 "supportedExtensions": ""
}
